BEGIN:VCALENDAR
VERSION:2.0
PRODID:spatie/icalendar-generator
DESCRIPTION:Events from Col·legi Tecla Sala
X-WR-CALDESC:Events from Col·legi Tecla Sala
REFRESH-INTERVAL;VALUE=DURATION:PT1440M
X-PUBLISHED-TTL:PT1440M
BEGIN:VTIMEZONE
TZID:Etc/GMT-2
BEGIN:STANDARD
DTSTART:20250703T000000Z
TZOFFSETFROM:+0200
TZOFFSETTO:+0200
END:STANDARD
END:VTIMEZONE
BEGIN:VTIMEZONE
TZID:UTC
BEGIN:STANDARD
DTSTART:20250727T120833Z
TZOFFSETFROM:+0000
TZOFFSETTO:+0000
END:STANDARD
END:VTIMEZONE
BEGIN:VEVENT
UID:742-696
DTSTAMP:20260423T120833Z
SUMMARY:VACANCES DE SETMANA SAANTA
LOCATION:
ORGANIZER;CN=R Gine:MAILTO:rgine@teclasala.cat
DTSTART;TZID=Etc/GMT-2:20260330T000000
DTEND;TZID=Etc/GMT-2:20260406T010000
X-ALT-DESC;FMTTYPE=TEXT/HTML:
CATEGORIES:Tota l\'escola
URL;VALUE=URI:https://teclasala.cat/my-calendar/?mc_id=742
METHOD:PUBLISH
END:VEVENT
BEGIN:VEVENT
UID:742-696
DTSTAMP:20260423T120833Z
SUMMARY:VACANCES DE SETMANA SAANTA
LOCATION:
ORGANIZER;CN=R Gine:MAILTO:rgine@teclasala.cat
DTSTART;TZID=Etc/GMT-2:20260330T000000
DTEND;TZID=Etc/GMT-2:20260406T010000
X-ALT-DESC;FMTTYPE=TEXT/HTML:
CATEGORIES:Tota l\'escola
URL;VALUE=URI:https://teclasala.cat/my-calendar/?mc_id=742
METHOD:PUBLISH
END:VEVENT
BEGIN:VEVENT
UID:742-696
DTSTAMP:20260423T120833Z
SUMMARY:VACANCES DE SETMANA SAANTA
LOCATION:
ORGANIZER;CN=R Gine:MAILTO:rgine@teclasala.cat
DTSTART;TZID=Etc/GMT-2:20260330T000000
DTEND;TZID=Etc/GMT-2:20260406T010000
X-ALT-DESC;FMTTYPE=TEXT/HTML:
CATEGORIES:Tota l\'escola
URL;VALUE=URI:https://teclasala.cat/my-calendar/?mc_id=742
METHOD:PUBLISH
END:VEVENT
BEGIN:VEVENT
UID:742-696
DTSTAMP:20260423T120833Z
SUMMARY:VACANCES DE SETMANA SAANTA
LOCATION:
ORGANIZER;CN=R Gine:MAILTO:rgine@teclasala.cat
DTSTART;TZID=Etc/GMT-2:20260330T000000
DTEND;TZID=Etc/GMT-2:20260406T010000
X-ALT-DESC;FMTTYPE=TEXT/HTML:
CATEGORIES:Tota l\'escola
URL;VALUE=URI:https://teclasala.cat/my-calendar/?mc_id=742
METHOD:PUBLISH
END:VEVENT
BEGIN:VEVENT
UID:742-696
DTSTAMP:20260423T120833Z
SUMMARY:VACANCES DE SETMANA SAANTA
LOCATION:
ORGANIZER;CN=R Gine:MAILTO:rgine@teclasala.cat
DTSTART;TZID=Etc/GMT-2:20260330T000000
DTEND;TZID=Etc/GMT-2:20260406T010000
X-ALT-DESC;FMTTYPE=TEXT/HTML:
CATEGORIES:Tota l\'escola
URL;VALUE=URI:https://teclasala.cat/my-calendar/?mc_id=742
METHOD:PUBLISH
END:VEVENT
BEGIN:VEVENT
UID:742-696
DTSTAMP:20260423T120833Z
SUMMARY:VACANCES DE SETMANA SAANTA
LOCATION:
ORGANIZER;CN=R Gine:MAILTO:rgine@teclasala.cat
DTSTART;TZID=Etc/GMT-2:20260330T000000
DTEND;TZID=Etc/GMT-2:20260406T010000
X-ALT-DESC;FMTTYPE=TEXT/HTML:
CATEGORIES:Tota l\'escola
URL;VALUE=URI:https://teclasala.cat/my-calendar/?mc_id=742
METHOD:PUBLISH
END:VEVENT
BEGIN:VEVENT
UID:742-696
DTSTAMP:20260423T120833Z
SUMMARY:VACANCES DE SETMANA SAANTA
LOCATION:
ORGANIZER;CN=R Gine:MAILTO:rgine@teclasala.cat
DTSTART;TZID=Etc/GMT-2:20260330T000000
DTEND;TZID=Etc/GMT-2:20260406T010000
X-ALT-DESC;FMTTYPE=TEXT/HTML:
CATEGORIES:Tota l\'escola
URL;VALUE=URI:https://teclasala.cat/my-calendar/?mc_id=742
METHOD:PUBLISH
END:VEVENT
BEGIN:VEVENT
UID:742-696
DTSTAMP:20260423T120833Z
SUMMARY:VACANCES DE SETMANA SAANTA
LOCATION:
ORGANIZER;CN=R Gine:MAILTO:rgine@teclasala.cat
DTSTART;TZID=Etc/GMT-2:20260330T000000
DTEND;TZID=Etc/GMT-2:20260406T010000
X-ALT-DESC;FMTTYPE=TEXT/HTML:
CATEGORIES:Tota l\'escola
URL;VALUE=URI:https://teclasala.cat/my-calendar/?mc_id=742
METHOD:PUBLISH
END:VEVENT
BEGIN:VEVENT
UID:876-770
DTSTAMP:20260423T120833Z
SUMMARY:1r ESO  C i D   - LA DIVERSITAT DEL MAR -
LOCATION:
ORGANIZER;CN=R Gine:MAILTO:rgine@teclasala.cat
DTSTART;TZID=Etc/GMT-2;VALUE=DATE:20260407
DTEND;TZID=Etc/GMT-2;VALUE=DATE:20260408
X-ALT-DESC;FMTTYPE=TEXT/HTML:Els  i les alumnes de 1r d’ESO  C i D  re
 alitzaran el taller La diversitat del mar\, que consta de diverses activit
 ats al voltant de la biologia del mar. El taller es realitza a la platja i
  al CEM (Centre d’Estudis del Mar) de Sitges i  havent dinat\, sortirem
  al Port de Vilanova per a&amp;hellip\;
CATEGORIES:ESO
URL;VALUE=URI:https://teclasala.cat/my-calendar/?mc_id=876
METHOD:PUBLISH
END:VEVENT
BEGIN:VEVENT
UID:877-771
DTSTAMP:20260423T120833Z
SUMMARY:1r ESO  A i B  - LA DIVERSITAT DEL MAR -
LOCATION:
ORGANIZER;CN=R Gine:MAILTO:rgine@teclasala.cat
DTSTART;TZID=Etc/GMT-2;VALUE=DATE:20260409
DTEND;TZID=Etc/GMT-2;VALUE=DATE:20260410
X-ALT-DESC;FMTTYPE=TEXT/HTML:Els  i les alumnes de 1r d’ESO  A i B  re
 alitzaran el taller La diversitat del mar\, que consta de diverses activit
 ats al voltant de la biologia del mar. El taller es realitza a la platja i
  al CEM (Centre d’Estudis del Mar) de Sitges i  havent dinat\, sortirem
  al Port de Vilanova per a&amp;hellip\;
CATEGORIES:ESO
URL;VALUE=URI:https://teclasala.cat/my-calendar/?mc_id=877
METHOD:PUBLISH
END:VEVENT
BEGIN:VEVENT
UID:879-773
DTSTAMP:20260423T120833Z
SUMMARY:DIA DE L'EDUCACIÓ FÍSICA AL CARRER
LOCATION:
ORGANIZER;CN=R Gine:MAILTO:rgine@teclasala.cat
DTSTART;TZID=Etc/GMT-2:20260417T000000
DTEND;TZID=Etc/GMT-2:20260417T010000
X-ALT-DESC;FMTTYPE=TEXT/HTML:Des del 2018 els i les alumnes del cicle super
 ior de Primària participem al Dia de l’Educació Física al Carrer (DEF
 C). És una iniciativa que vol mostrar a la societat com és l’actual Ed
 ucació Física a les escoles. Una Educació Física integral i integrador
 a\, per a tothom i per a tota la vida\, com a&amp;hellip\;
CATEGORIES:Primària
URL;VALUE=URI:https://teclasala.cat/my-calendar/?mc_id=879
METHOD:PUBLISH
END:VEVENT
BEGIN:VEVENT
UID:878-772
DTSTAMP:20260423T120833Z
SUMMARY:2n ESO  - MUSEU DE LA CIÈNCIA -
LOCATION:
ORGANIZER;CN=R Gine:MAILTO:rgine@teclasala.cat
DTSTART;TZID=Etc/GMT-2;VALUE=DATE:20260420
DTEND;TZID=Etc/GMT-2;VALUE=DATE:20260421
X-ALT-DESC;FMTTYPE=TEXT/HTML:Els i les alumnes  de 2n d’ESO  farem una 
 visita al Museu de la Ciència Cosmocaixa que inclou l’entrada al museu 
 i el taller-espectacle ThermoShow\, on veurem canvis de temperatura en div
 ersos processos físics i químics. En aquest espectacle participatiu\, ex
 perimentarem amb materials de propietats inusuals\, barrejarem substàncie
 s i descobrirem resultats totalment sorprenents.
CATEGORIES:ESO
URL;VALUE=URI:https://teclasala.cat/my-calendar/?mc_id=878
METHOD:PUBLISH
END:VEVENT
END:VCALENDAR